View In:
ArcGIS JavaScript
ArcGIS Online map viewer
ArcGIS Earth
Service Description: Historical_Maps/1932_Virginia_Dept_of_Highways_Map_jpg
Name: Historical_Maps/1932_Virginia_Dept_of_Highways_Map_jpg
Description:
Single Fused Map Cache: false
Extent:
XMin: 1.1532683823890574E7
YMin: 3635841.134155387
XMax: 1.1797577230635744E7
YMax: 3880269.6486682366
Spatial Reference: 102747
(2284)
LatestVCSWkid(0)
Initial Extent:
XMin: 1.1532683823890574E7
YMin: 3635841.134155387
XMax: 1.1797577230635744E7
YMax: 3880269.6486682366
Spatial Reference: 102747
(2284)
LatestVCSWkid(0)
Full Extent:
XMin: 1.1532683823890574E7
YMin: 3635841.134155387
XMax: 1.1797577230635744E7
YMax: 3880269.6486682366
Spatial Reference: 102747
(2284)
LatestVCSWkid(0)
Pixel Size X: 24.95698198089027
Pixel Size Y: 29.40670290096842
Band Count: 3
Pixel Type: U8
RasterFunction Infos: {"rasterFunctionInfos": [{
"name": "None",
"description": "",
"help": ""
}]}
Mensuration Capabilities: Basic
Inspection Capabilities:
Has Histograms: true
Has Colormap: false
Has Multi Dimensions : false
Rendering Rule:
Min Scale: 0
Max Scale: 0
Resampling: false
Copyright Text:
Service Data Type: esriImageServiceDataTypeRGB
Min Values: 0, 0, 0
Max Values: 255, 255, 255
Mean Values: 234.08394032534, 234.08394032534, 234.08394032534
Standard Deviation Values: 47.328857385474, 47.328857385474, 47.328857385474
Object ID Field:
Fields:
None
Default Mosaic Method: Center
Allowed Mosaic Methods:
SortField:
SortValue: null
Mosaic Operator: First
Default Compression Quality: 75
Default Resampling Method: Bilinear
Max Record Count: null
Max Image Height: 4100
Max Image Width: 15000
Max Download Image Count: null
Max Mosaic Image Count: null
Allow Raster Function: true
Allow Copy: true
Allow Analysis: true
Allow Compute TiePoints: false
Supports Statistics: false
Supports Advanced Queries: false
Use StandardizedQueries: true
Raster Type Infos:
Name: Raster Dataset
Description: Supports all ArcGIS Raster Datasets
Help:
Has Raster Attribute Table: false
Edit Fields Info: null
Ownership Based AccessControl For Rasters: null
Child Resources:
Info
Histograms
Statistics
Key Properties
Legend
Raster Function Infos
Supported Operations:
Export Image
Identify
Measure
Compute Histograms
Compute Statistics Histograms
Get Samples
Compute Class Statistics
Query Boundary
Compute Pixel Location
Compute Angles
Validate
Project