View In:
ArcGIS JavaScript
ArcGIS Online map viewer
ArcGIS Earth
Service Description: Historical_Maps/1961_Virginia_Dept_of_Highways_Map_jpg
Name: Historical_Maps/1961_Virginia_Dept_of_Highways_Map_jpg
Description:
Single Fused Map Cache: false
Extent:
XMin: 1.1529308150461566E7
YMin: 3676547.3289482277
XMax: 1.178001503686322E7
YMax: 3877358.671445724
Spatial Reference: 102747
(2284)
LatestVCSWkid(0)
Initial Extent:
XMin: 1.1529308150461566E7
YMin: 3676547.3289482277
XMax: 1.178001503686322E7
YMax: 3877358.671445724
Spatial Reference: 102747
(2284)
LatestVCSWkid(0)
Full Extent:
XMin: 1.1529308150461566E7
YMin: 3676547.3289482277
XMax: 1.178001503686322E7
YMax: 3877358.671445724
Spatial Reference: 102747
(2284)
LatestVCSWkid(0)
Pixel Size X: 36.0211043680539
Pixel Size Y: 35.859168303124356
Band Count: 3
Pixel Type: U8
RasterFunction Infos: {"rasterFunctionInfos": [{
"name": "None",
"description": "",
"help": ""
}]}
Mensuration Capabilities: Basic
Inspection Capabilities:
Has Histograms: true
Has Colormap: false
Has Multi Dimensions : false
Rendering Rule:
Min Scale: 0
Max Scale: 0
Resampling: false
Copyright Text:
Service Data Type: esriImageServiceDataTypeRGB
Min Values: 0, 0, 0
Max Values: 255, 255, 255
Mean Values: 237.09249025041, 237.09249025041, 237.09249025041
Standard Deviation Values: 39.625745297424, 39.625745297424, 39.625745297424
Object ID Field:
Fields:
None
Default Mosaic Method: Center
Allowed Mosaic Methods:
SortField:
SortValue: null
Mosaic Operator: First
Default Compression Quality: 75
Default Resampling Method: Bilinear
Max Record Count: null
Max Image Height: 4100
Max Image Width: 15000
Max Download Image Count: null
Max Mosaic Image Count: null
Allow Raster Function: true
Allow Copy: true
Allow Analysis: true
Allow Compute TiePoints: false
Supports Statistics: false
Supports Advanced Queries: false
Use StandardizedQueries: true
Raster Type Infos:
Name: Raster Dataset
Description: Supports all ArcGIS Raster Datasets
Help:
Has Raster Attribute Table: false
Edit Fields Info: null
Ownership Based AccessControl For Rasters: null
Child Resources:
Info
Histograms
Statistics
Key Properties
Legend
Raster Function Infos
Supported Operations:
Export Image
Identify
Measure
Compute Histograms
Compute Statistics Histograms
Get Samples
Compute Class Statistics
Query Boundary
Compute Pixel Location
Compute Angles
Validate
Project